BEGIN:VCALENDAR
VERSION:2.0
PRODID:-// - ECPv6.15.20//NONSGML v1.0//EN
CALSCALE:GREGORIAN
METHOD:PUBLISH
X-ORIGINAL-URL:https://kyvietnammemorial.net
X-WR-CALDESC:Events for 
REFRESH-INTERVAL;VALUE=DURATION:PT1H
X-Robots-Tag:noindex
X-PUBLISHED-TTL:PT1H
BEGIN:VTIMEZONE
TZID:America/Kentucky/Louisville
BEGIN:DAYLIGHT
TZOFFSETFROM:-0500
TZOFFSETTO:-0400
TZNAME:EDT
DTSTART:20250309T070000
END:DAYLIGHT
BEGIN:STANDARD
TZOFFSETFROM:-0400
TZOFFSETTO:-0500
TZNAME:EST
DTSTART:20251102T060000
END:STANDARD
BEGIN:DAYLIGHT
TZOFFSETFROM:-0500
TZOFFSETTO:-0400
TZNAME:EDT
DTSTART:20260308T070000
END:DAYLIGHT
BEGIN:STANDARD
TZOFFSETFROM:-0400
TZOFFSETTO:-0500
TZNAME:EST
DTSTART:20261101T060000
END:STANDARD
BEGIN:DAYLIGHT
TZOFFSETFROM:-0500
TZOFFSETTO:-0400
TZNAME:EDT
DTSTART:20270314T070000
END:DAYLIGHT
BEGIN:STANDARD
TZOFFSETFROM:-0400
TZOFFSETTO:-0500
TZNAME:EST
DTSTART:20271107T060000
END:STANDARD
END:VTIMEZONE
BEGIN:VEVENT
DTSTART;TZID=America/Kentucky/Louisville:20260520T103000
DTEND;TZID=America/Kentucky/Louisville:20260520T120000
DTSTAMP:20260424T114121
CREATED:20260224T154742Z
LAST-MODIFIED:20260224T155042Z
UID:10000033-1779273000-1779278400@kyvietnammemorial.net
SUMMARY:Run for the Wall
DESCRIPTION:Time: 10:30 a.m. – Noon\nPOC: Lee Bush\, 502-386-7720
URL:https://kyvietnammemorial.net/event/run-for-the-wall/
ATTACH;FMTTYPE=image/jpeg:https://kyvietnammemorial.net/wp-content/uploads/2026/02/guard-9-1.jpg
END:VEVENT
BEGIN:VEVENT
DTSTART;TZID=America/Kentucky/Louisville:20260626T120000
DTEND;TZID=America/Kentucky/Louisville:20260626T140000
DTSTAMP:20260424T114121
CREATED:20260224T154949Z
LAST-MODIFIED:20260224T154949Z
UID:10000034-1782475200-1782482400@kyvietnammemorial.net
SUMMARY:North American Sundial Society
DESCRIPTION:Time: Noon – 2 p.m.\nPOC: Bob Manning\, 502-456-2277
URL:https://kyvietnammemorial.net/event/north-american-sundial-society/
ATTACH;FMTTYPE=image/jpeg:https://kyvietnammemorial.net/wp-content/uploads/2026/02/KVVM-10_5_25_DJI_0029-1-scaled.jpg
END:VEVENT
BEGIN:VEVENT
DTSTART;TZID=America/Kentucky/Louisville:20261002T133000
DTEND;TZID=America/Kentucky/Louisville:20261002T153000
DTSTAMP:20260424T114121
CREATED:20260305T145203Z
LAST-MODIFIED:20260305T145203Z
UID:10000038-1790947800-1790955000@kyvietnammemorial.net
SUMMARY:Armed Forces Reunions
DESCRIPTION:American Division Veterans Association\nFriday\, October 2\nTime: 1:30 p.m.\nPOC: Kelly Bridgeman\, 757-625-6401\nReunion Chairman: Rob Ellis\, re196thlib@aol.com
URL:https://kyvietnammemorial.net/event/armed-forces-reunions/
ATTACH;FMTTYPE=image/jpeg:https://kyvietnammemorial.net/wp-content/uploads/2026/03/Americal-Division-Patch.jpg
END:VEVENT
END:VCALENDAR