BEGIN:VCALENDAR
VERSION:2.0
PRODID:-// - ECPv6.15.20//NONSGML v1.0//EN
CALSCALE:GREGORIAN
METHOD:PUBLISH
X-ORIGINAL-URL:https://kyvietnammemorial.net
X-WR-CALDESC:Events for 
REFRESH-INTERVAL;VALUE=DURATION:PT1H
X-Robots-Tag:noindex
X-PUBLISHED-TTL:PT1H
BEGIN:VTIMEZONE
TZID:America/Kentucky/Louisville
BEGIN:DAYLIGHT
TZOFFSETFROM:-0500
TZOFFSETTO:-0400
TZNAME:EDT
DTSTART:20220313T070000
END:DAYLIGHT
BEGIN:STANDARD
TZOFFSETFROM:-0400
TZOFFSETTO:-0500
TZNAME:EST
DTSTART:20221106T060000
END:STANDARD
BEGIN:DAYLIGHT
TZOFFSETFROM:-0500
TZOFFSETTO:-0400
TZNAME:EDT
DTSTART:20230312T070000
END:DAYLIGHT
BEGIN:STANDARD
TZOFFSETFROM:-0400
TZOFFSETTO:-0500
TZNAME:EST
DTSTART:20231105T060000
END:STANDARD
BEGIN:DAYLIGHT
TZOFFSETFROM:-0500
TZOFFSETTO:-0400
TZNAME:EDT
DTSTART:20240310T070000
END:DAYLIGHT
BEGIN:STANDARD
TZOFFSETFROM:-0400
TZOFFSETTO:-0500
TZNAME:EST
DTSTART:20241103T060000
END:STANDARD
BEGIN:DAYLIGHT
TZOFFSETFROM:-0500
TZOFFSETTO:-0400
TZNAME:EDT
DTSTART:20250309T070000
END:DAYLIGHT
BEGIN:STANDARD
TZOFFSETFROM:-0400
TZOFFSETTO:-0500
TZNAME:EST
DTSTART:20251102T060000
END:STANDARD
END:VTIMEZONE
BEGIN:VEVENT
DTSTART;TZID=America/Kentucky/Louisville:20240522T110000
DTEND;TZID=America/Kentucky/Louisville:20240522T123000
DTSTAMP:20260424T063603
CREATED:20240410T165353Z
LAST-MODIFIED:20240509T151954Z
UID:10000010-1716375600-1716381000@kyvietnammemorial.net
SUMMARY:Ride for the Wall
DESCRIPTION:Wednesday\, 22 May 2024\n11:00-12:30\nPOC: JB Reynolds @ (859) 687-5014\nAll are welcome; no reservations required
URL:https://kyvietnammemorial.net/event/ride-for-the-wall/
ATTACH;FMTTYPE=image/png:https://kyvietnammemorial.net/wp-content/uploads/2024/04/Screenshot-2024-05-09-11.19.30-AM.png
END:VEVENT
BEGIN:VEVENT
DTSTART;TZID=America/Kentucky/Louisville:20240420T110000
DTEND;TZID=America/Kentucky/Louisville:20240420T123000
DTSTAMP:20260424T063603
CREATED:20240411T140658Z
LAST-MODIFIED:20240411T154829Z
UID:10000011-1713610800-1713616200@kyvietnammemorial.net
SUMMARY:Veterans Association Reunion
DESCRIPTION:Americal Division Veterans (23d Americal Infantry Division) \nVeterans Association Reunion \n   Saturday\, 20 April 2024\n\n    11:00 am – 12:30 pm\n\n   POC: Bill Stull (859-312-4663)\n\n    All are welcome to attend
URL:https://kyvietnammemorial.net/event/veterans-association-reunion/
ATTACH;FMTTYPE=image/jpeg:https://kyvietnammemorial.net/wp-content/uploads/2024/04/unnamed-4-e1712850499572.jpg
END:VEVENT
BEGIN:VEVENT
DTSTART;TZID=America/Kentucky/Louisville:20240329T130000
DTEND;TZID=America/Kentucky/Louisville:20240329T143000
DTSTAMP:20260424T063603
CREATED:20240304T145542Z
LAST-MODIFIED:20240314T125340Z
UID:10000009-1711717200-1711722600@kyvietnammemorial.net
SUMMARY:National Vietnam Veterans Day Ceremony: TIME UPDATE
DESCRIPTION:The VFW Post 4075 Auxiliary  (POC Edna Taylor) will be hosting an event on March 29th at 1:00PM \nGovernor Beshear will be the guest speaker and Mallory Hudson Miss Kentucky 2023 will be singing the National Anthem. \nOpen to the Public and No reservations required.
URL:https://kyvietnammemorial.net/event/vfw-post-4075-hosts-event/
ATTACH;FMTTYPE=image/jpeg:https://kyvietnammemorial.net/wp-content/uploads/2019/09/DSC02875.jpg
END:VEVENT
BEGIN:VEVENT
DTSTART;TZID=America/Kentucky/Louisville:20231111T110000
DTEND;TZID=America/Kentucky/Louisville:20231111T120000
DTSTAMP:20260424T063603
CREATED:20231031T151049Z
LAST-MODIFIED:20231031T151049Z
UID:10000007-1699700400-1699704000@kyvietnammemorial.net
SUMMARY:Board Members share meaning\, reverence and design of Memorial
DESCRIPTION:Join  the Members of the Kentucky Vietnam Veterans Memorial information on the meaning\, reverence\, and design of the Memorial. \nOpen to the public!
URL:https://kyvietnammemorial.net/event/board-members-share-meaning-reverence-and-design-of-memorial/
ATTACH;FMTTYPE=image/jpeg:https://kyvietnammemorial.net/wp-content/uploads/2019/09/DSC02875.jpg
END:VEVENT
BEGIN:VEVENT
DTSTART;TZID=America/Kentucky/Louisville:20231111T100000
DTEND;TZID=America/Kentucky/Louisville:20231111T110000
DTSTAMP:20260424T063603
CREATED:20231031T151415Z
LAST-MODIFIED:20231031T152008Z
UID:10000006-1699696800-1699700400@kyvietnammemorial.net
SUMMARY:Join the Rolling Thunder KY Chapter 5
DESCRIPTION:Join the Rolling Thunder KY Chapter 5 at the Memorial on November 11 at 10:00AM \nRecognizing all those who have served \nOpen to the Public!
URL:https://kyvietnammemorial.net/event/join-the-rolling-thunder-ky-chapter-5/
ATTACH;FMTTYPE=image/jpeg:https://kyvietnammemorial.net/wp-content/uploads/2019/09/DSC02873.jpg
END:VEVENT
BEGIN:VEVENT
DTSTART;TZID=America/Kentucky/Louisville:20230915T193000
DTEND;TZID=America/Kentucky/Louisville:20230915T203000
DTSTAMP:20260424T063603
CREATED:20230905T124133Z
LAST-MODIFIED:20230905T124133Z
UID:10000005-1694806200-1694809800@kyvietnammemorial.net
SUMMARY:Candle-Light Vigil: POW/MIA Recognition Day 
DESCRIPTION:Rolling Thunder Chapter 5\nPOW/MIA Recognition Day\nCandle-Light Vigil\n\n15 Sep 2023 from 7:30 pm – 8:30 pm\n\nPOC: Rebecca Campbell @ 859-940-2790\n\nOpen to the public
URL:https://kyvietnammemorial.net/event/candle-light-vigil-pow-mia-recognition-day/
ATTACH;FMTTYPE=image/jpeg:https://kyvietnammemorial.net/wp-content/uploads/2023/09/Depositphotos_3573840_XL-scaled.jpg
END:VEVENT
BEGIN:VEVENT
DTSTART;TZID=America/Kentucky/Louisville:20230915T090000
DTEND;TZID=America/Kentucky/Louisville:20230915T110000
DTSTAMP:20260424T063603
CREATED:20230901T141102Z
LAST-MODIFIED:20230905T125230Z
UID:10000004-1694768400-1694775600@kyvietnammemorial.net
SUMMARY:KVVM POW/MIA Recognition Ceremony
DESCRIPTION:Open to the public! \n  \nFor additional information please contact Kelly Sheehan and “Hoss” Cartwright at  859-619-8158.
URL:https://kyvietnammemorial.net/event/kvvm-pow-mia-recognition-ceremony/
ATTACH;FMTTYPE=image/jpeg:https://kyvietnammemorial.net/wp-content/uploads/2023/09/Depositphotos_26556961_XL-scaled.jpg
END:VEVENT
BEGIN:VEVENT
DTSTART;TZID=America/Kentucky/Louisville:20230529T100000
DTEND;TZID=America/Kentucky/Louisville:20230529T110000
DTSTAMP:20260424T063603
CREATED:20230420T181427Z
LAST-MODIFIED:20230424T204517Z
UID:10000001-1685354400-1685358000@kyvietnammemorial.net
SUMMARY:Memorial Day Service
DESCRIPTION:
URL:https://kyvietnammemorial.net/event/memorial-day-service/
ATTACH;FMTTYPE=image/jpeg:https://kyvietnammemorial.net/wp-content/uploads/2019/09/DSC02875.jpg
END:VEVENT
BEGIN:VEVENT
DTSTART;TZID=America/Kentucky/Louisville:20230524T113000
DTEND;TZID=America/Kentucky/Louisville:20230524T130000
DTSTAMP:20260424T063603
CREATED:20230420T181050Z
LAST-MODIFIED:20230424T204435Z
UID:10000002-1684927800-1684933200@kyvietnammemorial.net
SUMMARY:Annual Ride for the Wall Ceremony
DESCRIPTION:Wednesday\, 24 May 2023 at 11:30\nPOC is J.B. Reynolds at (859) 687-5014\nOpen to the public
URL:https://kyvietnammemorial.net/event/annual-ride-for-the-wall-ceremony/
ATTACH;FMTTYPE=image/jpeg:https://kyvietnammemorial.net/wp-content/uploads/2019/07/IMG_0408.jpg
END:VEVENT
BEGIN:VEVENT
DTSTART;TZID=America/Kentucky/Louisville:20230524T113000
DTEND;TZID=America/Kentucky/Louisville:20230524T113000
DTSTAMP:20260424T063603
CREATED:20230522T123538Z
LAST-MODIFIED:20230522T123756Z
UID:10000003-1684927800-1684927800@kyvietnammemorial.net
SUMMARY:Central Route Run of the Wall
DESCRIPTION:Wednesday May 24 at 11:30am \n  \nRFTW_2023_Flyer
URL:https://kyvietnammemorial.net/event/central-route-run-of-the-wall/
ATTACH;FMTTYPE=image/png:https://kyvietnammemorial.net/wp-content/uploads/2023/05/Screenshot-2023-05-22-8.36.41-AM.png
END:VEVENT
END:VCALENDAR